BEGIN:VCALENDAR
VERSION:2.0
PRODID:-//Peters Township Year of Kindness - ECPv6.15.20//NONSGML v1.0//EN
CALSCALE:GREGORIAN
METHOD:PUBLISH
X-ORIGINAL-URL:https://ptyok.org
X-WR-CALDESC:Events for Peters Township Year of Kindness
REFRESH-INTERVAL;VALUE=DURATION:PT1H
X-Robots-Tag:noindex
X-PUBLISHED-TTL:PT1H
BEGIN:VTIMEZONE
TZID:America/New_York
BEGIN:DAYLIGHT
TZOFFSETFROM:-0500
TZOFFSETTO:-0400
TZNAME:EDT
DTSTART:20200308T070000
END:DAYLIGHT
BEGIN:STANDARD
TZOFFSETFROM:-0400
TZOFFSETTO:-0500
TZNAME:EST
DTSTART:20201101T060000
END:STANDARD
BEGIN:DAYLIGHT
TZOFFSETFROM:-0500
TZOFFSETTO:-0400
TZNAME:EDT
DTSTART:20210314T070000
END:DAYLIGHT
BEGIN:STANDARD
TZOFFSETFROM:-0400
TZOFFSETTO:-0500
TZNAME:EST
DTSTART:20211107T060000
END:STANDARD
BEGIN:DAYLIGHT
TZOFFSETFROM:-0500
TZOFFSETTO:-0400
TZNAME:EDT
DTSTART:20220313T070000
END:DAYLIGHT
BEGIN:STANDARD
TZOFFSETFROM:-0400
TZOFFSETTO:-0500
TZNAME:EST
DTSTART:20221106T060000
END:STANDARD
END:VTIMEZONE
BEGIN:VEVENT
DTSTART;TZID=America/New_York:20211124T090000
DTEND;TZID=America/New_York:20211124T143000
DTSTAMP:20260425T065827
CREATED:20211024T183820Z
LAST-MODIFIED:20211024T183820Z
UID:2433-1637744400-1637764200@ptyok.org
SUMMARY:Maddalena Tray Replenishment Blood Drive - PT Library
DESCRIPTION:Maddalena Tray’s entrance into the world in February 2017 came with several unforeseen complications. In addition to metabolic acidosis\, a condition wherein the amount of acid in the blood is out of balance\, Maddalena had possible brain damage and acute liver and kidney failure. Maddalena received an extraordinary amount of blood the night she was born and more than 40 blood products during her 40-day stay in the neonatal intensive care unit. Today\, Maddalena is doing well. She continues to see the nephrologist for her chronic kidney disease and may need a kidney transplant in the future. Her family is hosting their 5th annual replenishment drive and plan to do so every year. To make an appointment: Visit vitalant.org and click the “Log In” button. On the new window\, choose Donor Login (previous donor) or New Donor (haven’t donated with Vitalant before)\, search with group code Z0021026\, or call 412.209.7000. \nLOCATION: Multi-Purpose Room\, 1st floor
URL:https://ptyok.org/event/maddalena-tray-replenishment-blood-drive-pt-library/
LOCATION:Peters Township Library\, 616 East McMurray Road\, McMurray\, PA\, 15317\, United States
ATTACH;FMTTYPE=image/png:https://ptyok.org/wp-content/uploads/2020/02/PTPL_Logo_2018_HORZ_WHITEGOLD-1.png
END:VEVENT
END:VCALENDAR